BEGIN:VCALENDAR
VERSION:2.0
PRODID:-//wp-events-plugin.com//7.2.3.1//EN
TZID:America/New_York
X-WR-TIMEZONE:America/New_York
BEGIN:VEVENT
UID:983@westleigh-club.org
DTSTART;TZID=America/New_York:20251207T173000
DTEND;TZID=America/New_York:20251207T193000
DTSTAMP:20251001T141712Z
URL:https://www.westleigh-club.org/events/swim-team-winter-social/
SUMMARY:Swim Team Winter Social
DESCRIPTION:
ATTACH;FMTTYPE=image/jpeg:https://www.westleigh-club.org/wp-content/upload
 s/2025/10/Barracuda-winter-social-media-e1759328208156.png
CATEGORIES:Social,Swim Team
END:VEVENT
BEGIN:VTIMEZONE
TZID:America/New_York
X-LIC-LOCATION:America/New_York
BEGIN:STANDARD
DTSTART:20251102T010000
TZOFFSETFROM:-0400
TZOFFSETTO:-0500
TZNAME:EST
END:STANDARD
END:VTIMEZONE
END:VCALENDAR