BEGIN:VCALENDAR
VERSION:2.0
PRODID:-//wp-events-plugin.com//7.2.3.1//EN
TZID:America/New_York
X-WR-TIMEZONE:America/New_York
BEGIN:VEVENT
UID:701@westleigh-club.org
DTSTART;TZID=America/New_York:20240716T160000
DTEND;TZID=America/New_York:20240716T200000
DTSTAMP:20250124T045606Z
URL:https://www.westleigh-club.org/events/swim-team-fundraiser-chipotle/
SUMMARY:Swim Team Fundraiser - Chipotle
DESCRIPTION:Chipotle at Kentlands\n\n 	96 Main St.\, Gaithersburg\n 	Order 
 online for pickup using code 3X83TRJ\n 	or show this flyer at the restaur
 ant in person.\n
CATEGORIES:Social
END:VEVENT
BEGIN:VTIMEZONE
TZID:America/New_York
X-LIC-LOCATION:America/New_York
BEGIN:DAYLIGHT
DTSTART:20240310T030000
TZOFFSETFROM:-0500
TZOFFSETTO:-0400
TZNAME:EDT
END:DAYLIGHT
END:VTIMEZONE
END:VCALENDAR