BEGIN:VCALENDAR
VERSION:2.0
PRODID:-//wp-events-plugin.com//7.2.3.1//EN
TZID:America/New_York
X-WR-TIMEZONE:America/New_York
BEGIN:VEVENT
UID:675@westleigh-club.org
DTSTART;TZID=America/New_York:20241127T180000
DTEND;TZID=America/New_York:20241127T210000
DTSTAMP:20250124T042446Z
URL:https://www.westleigh-club.org/events/smores-night/
SUMMARY:S’mores Night
DESCRIPTION:
CATEGORIES:Social
END:VEVENT
BEGIN:VTIMEZONE
TZID:America/New_York
X-LIC-LOCATION:America/New_York
BEGIN:STANDARD
DTSTART:20241103T010000
TZOFFSETFROM:-0400
TZOFFSETTO:-0500
TZNAME:EST
END:STANDARD
END:VTIMEZONE
END:VCALENDAR