BEGIN:VCALENDAR
VERSION:2.0
PRODID:-//wp-events-plugin.com//7.2.3.1//EN
TZID:America/New_York
X-WR-TIMEZONE:America/New_York
BEGIN:VEVENT
UID:962@westleigh-club.org
DTSTART;TZID=America/New_York:20250817T160000
DTEND;TZID=America/New_York:20250817T200000
DTSTAMP:20250721T064041Z
URL:https://www.westleigh-club.org/events/pool-rental-mg-bs/
SUMMARY:Pool & Grill Area Rental – MG/BS
DESCRIPTION:
CATEGORIES:Pool,Rental
END:VEVENT
BEGIN:VTIMEZONE
TZID:America/New_York
X-LIC-LOCATION:America/New_York
BEGIN:DAYLIGHT
DTSTART:20250309T030000
TZOFFSETFROM:-0500
TZOFFSETTO:-0400
TZNAME:EDT
END:DAYLIGHT
END:VTIMEZONE
END:VCALENDAR