BEGIN:VCALENDAR
VERSION:2.0
PRODID:-//wp-events-plugin.com//7.2.3.1//EN
TZID:America/New_York
X-WR-TIMEZONE:America/New_York
BEGIN:VEVENT
UID:694@westleigh-club.org
DTSTART;TZID=America/New_York:20250901T120000
DTEND;TZID=America/New_York:20250901T170000
DTSTAMP:20250528T133337Z
URL:https://www.westleigh-club.org/events/last-day-of-pool/
SUMMARY:LAST DAY OF POOL
DESCRIPTION:Pool hours: 12 - 5 PM
CATEGORIES:Pool
END:VEVENT
BEGIN:VTIMEZONE
TZID:America/New_York
X-LIC-LOCATION:America/New_York
BEGIN:DAYLIGHT
DTSTART:20250309T030000
TZOFFSETFROM:-0500
TZOFFSETTO:-0400
TZNAME:EDT
END:DAYLIGHT
END:VTIMEZONE
END:VCALENDAR