BEGIN:VCALENDAR
VERSION:2.0
PRODID:-//wp-events-plugin.com//7.2.3.1//EN
TZID:America/New_York
X-WR-TIMEZONE:America/New_York
BEGIN:VEVENT
UID:695@westleigh-club.org
DTSTART;TZID=America/New_York:20250831T130000
DTEND;TZID=America/New_York:20250831T160000
DTSTAMP:20250521T191111Z
URL:https://www.westleigh-club.org/events/labor-day-pool-party/
SUMMARY:Labor Day Pool Party
DESCRIPTION:DJ: 1 - 4 pm\n\nFood: 1 - 3 pm\n\nPool: 12 - 8 pm
CATEGORIES:Social
END:VEVENT
BEGIN:VTIMEZONE
TZID:America/New_York
X-LIC-LOCATION:America/New_York
BEGIN:DAYLIGHT
DTSTART:20250309T030000
TZOFFSETFROM:-0500
TZOFFSETTO:-0400
TZNAME:EDT
END:DAYLIGHT
END:VTIMEZONE
END:VCALENDAR