BEGIN:VCALENDAR
VERSION:2.0
PRODID:-//wp-events-plugin.com//7.2.3.1//EN
TZID:America/New_York
X-WR-TIMEZONE:America/New_York
BEGIN:VEVENT
UID:820@westleigh-club.org
DTSTART;TZID=America/New_York:20250315T083000
DTEND;TZID=America/New_York:20250315T153000
DTSTAMP:20250314T012424Z
URL:https://www.westleigh-club.org/events/disc-golf-6th-annual-ice-bowl/
SUMMARY:Disc Golf 6th Annual Ice Bowl
DESCRIPTION:Disc golf course reserved for Ice Bowl players only.\n\nClick h
 ere to register.
ATTACH;FMTTYPE=image/jpeg:https://www.westleigh-club.org/wp-content/upload
 s/2025/03/6th-annual-westleigh-ice-bowl-1735791783-large.jpg
CATEGORIES:Disc Golf
END:VEVENT
BEGIN:VTIMEZONE
TZID:America/New_York
X-LIC-LOCATION:America/New_York
BEGIN:DAYLIGHT
DTSTART:20250309T030000
TZOFFSETFROM:-0500
TZOFFSETTO:-0400
TZNAME:EDT
END:DAYLIGHT
END:VTIMEZONE
END:VCALENDAR