BEGIN:VCALENDAR
VERSION:2.0
PRODID:-//wp-events-plugin.com//7.2.3.1//EN
TZID:America/New_York
X-WR-TIMEZONE:America/New_York
BEGIN:VEVENT
UID:1308@westleigh-club.org
DTSTART;TZID=America/New_York:20260218T080000
DTEND;TZID=America/New_York:20260218T200000
DTSTAMP:20260218T033554Z
URL:https://www.westleigh-club.org/events/clubhouse-rental-ba/
SUMMARY:Clubhouse Rental - BA
DESCRIPTION:
CATEGORIES:Rental
END:VEVENT
BEGIN:VTIMEZONE
TZID:America/New_York
X-LIC-LOCATION:America/New_York
BEGIN:STANDARD
DTSTART:20251102T010000
TZOFFSETFROM:-0400
TZOFFSETTO:-0500
TZNAME:EST
END:STANDARD
END:VTIMEZONE
END:VCALENDAR