BEGIN:VCALENDAR
VERSION:2.0
PRODID:-//wp-events-plugin.com//7.2.3.1//EN
TZID:America/New_York
X-WR-TIMEZONE:America/New_York
BEGIN:VEVENT
UID:703@westleigh-club.org
DTSTART;TZID=America/New_York:20250704T120000
DTEND;TZID=America/New_York:20250704T150000
DTSTAMP:20250521T192040Z
URL:https://www.westleigh-club.org/events/4th-of-july-pool-party/
SUMMARY:4th of July Pool Party
DESCRIPTION:DJ: 12 - 3 pm\n\nFOOD: 12 - 2 pm\n\nPOOL: 11 - 6 pm
CATEGORIES:Social
END:VEVENT
BEGIN:VTIMEZONE
TZID:America/New_York
X-LIC-LOCATION:America/New_York
BEGIN:DAYLIGHT
DTSTART:20250309T030000
TZOFFSETFROM:-0500
TZOFFSETTO:-0400
TZNAME:EDT
END:DAYLIGHT
END:VTIMEZONE
END:VCALENDAR